BEGIN:VCALENDAR
VERSION:2.0
PRODID:-//AudioTheme 3.0.2
BEGIN:VEVENT
UID:urn:uuid:2994bed2-2931-4ccf-8d14-b705ca6da44e
URL:https://jodiekeanmusic.com/shows/jodie-kean-trio-at-oku-ibiza/
DTSTART;TZID=GMT:20210715T190000
SUMMARY:Jodie Kean trio at OKU Ibiza
DESCRIPTION:Performing at the stunning OKU hotel with Chelu García on keys and Fabio Capelli on sax. Laidback Soul vibes!
LOCATION:OKU\, Camí del Portixol\, 2\, Sant Antoni de Portmany\, Illes Balears\, Spain\, 07820
END:VEVENT
END:VCALENDAR
