BEGIN:VCALENDAR
VERSION:2.0
PRODID:-//AudioTheme 3.0.2
BEGIN:VEVENT
UID:urn:uuid:f0a6bc71-59c6-43c9-899d-45fdd3d52647
URL:https://jodiekeanmusic.com/shows/solo-set-at-oku-5/
DTSTART;TZID=GMT:20210813T190000
SUMMARY:Solo set at OKU
DESCRIPTION:Acoustic solo set at the OKU restaurant
LOCATION:OKU\, Camí del Portixol\, 2\, Sant Antoni de Portmany\, Illes Balears\, Spain\, 07820
END:VEVENT
END:VCALENDAR
